1.000000
0.000000
0.000000
-1.000000
634319.500000
4748489.500000
