1.000000
0.000000
0.000000
-1.000000
661219.500000
4762979.500000
