1.000000
0.000000
0.000000
-1.000000
647829.500000
4753409.500000
