1.000000
0.000000
0.000000
-1.000000
668239.500000
4753899.500000
