1.000000
0.000000
0.000000
-1.000000
675159.500000
4749449.500000
