1.000000
0.000000
0.000000
-1.000000
573159.500000
4738249.500000
