1.000000
0.000000
0.000000
-1.000000
566429.500000
4728919.500000
