1.000000
0.000000
0.000000
-1.000000
573259.500000
4728999.500000
