1.000000
0.000000
0.000000
-1.000000
586909.500000
4729169.500000
