1.000000
0.000000
0.000000
-1.000000
600559.500000
4729369.500000
