1.000000
0.000000
0.000000
-1.000000
621029.500000
4729719.500000
