1.000000
0.000000
0.000000
-1.000000
627849.500000
4729839.500000
