1.000000
0.000000
0.000000
-1.000000
668459.500000
4744649.500000
