1.000000
0.000000
0.000000
-1.000000
648129.500000
4739529.500000
