1.000000
0.000000
0.000000
-1.000000
661869.500000
4735219.500000
