1.000000
0.000000
0.000000
-1.000000
545989.500000
4724109.500000
