1.000000
0.000000
0.000000
-1.000000
539209.500000
4714799.500000
