1.000000
0.000000
0.000000
-1.000000
546049.500000
4714849.500000
