1.000000
0.000000
0.000000
-1.000000
559729.500000
4714969.500000
