1.000000
0.000000
0.000000
-1.000000
566479.500000
4724289.500000
