1.000000
0.000000
0.000000
-1.000000
593789.500000
4724639.500000
