1.000000
0.000000
0.000000
-1.000000
607519.500000
4720219.500000
