1.000000
0.000000
0.000000
-1.000000
600759.500000
4715489.500000
