1.000000
0.000000
0.000000
-1.000000
634769.500000
4725349.500000
