1.000000
0.000000
0.000000
-1.000000
641599.500000
4725499.500000
