1.000000
0.000000
0.000000
-1.000000
634949.500000
4716099.500000
