1.000000
0.000000
0.000000
-1.000000
628199.500000
4711339.500000
