1.000000
0.000000
0.000000
-1.000000
559849.500000
4701089.500000
