1.000000
0.000000
0.000000
-1.000000
587309.500000
4696779.500000
