1.000000
0.000000
0.000000
-1.000000
607739.500000
4706339.500000
