1.000000
0.000000
0.000000
-1.000000
614659.500000
4701829.500000
