1.000000
0.000000
0.000000
-1.000000
601089.500000
4692349.500000
