1.000000
0.000000
0.000000
-1.000000
635219.500000
4702219.500000
