1.000000
0.000000
0.000000
-1.000000
635399.500000
4692969.500000
