1.000000
0.000000
0.000000
-1.000000
655769.500000
4702669.500000
