1.000000
0.000000
0.000000
-1.000000
587429.500000
4687529.500000
