1.000000
0.000000
0.000000
-1.000000
594419.500000
4678369.500000
