1.000000
0.000000
0.000000
-1.000000
621999.500000
4674189.500000
