1.000000
0.000000
0.000000
-1.000000
594539.500000
4669119.500000
