1.000000
0.000000
0.000000
-1.000000
615269.500000
4664819.500000
