1.000000
0.000000
0.000000
-1.000000
615339.500000
4660189.500000
