1.000000
0.000000
0.000000
-1.000000
615419.500000
4655569.500000
