1.000000
0.000000
0.000000
-1.000000
629129.500000
4660439.500000
