1.000000
0.000000
0.000000
-1.000000
594789.500000
4650609.500000
