1.000000
0.000000
0.000000
-1.000000
586199.500000
4784689.500000
