1.000000
0.000000
0.000000
-1.000000
606299.500000
4798879.500000
