1.000000
0.000000
0.000000
-1.000000
613049.500000
4798999.500000
