1.000000
0.000000
0.000000
-1.000000
606439.500000
4789629.500000
