1.000000
0.000000
0.000000
-1.000000
592969.500000
4784789.500000
