1.000000
0.000000
0.000000
-1.000000
579599.500000
4770719.500000
